BEGIN:VCALENDAR
VERSION:2.0
PRODID:spatie/icalendar-generator
DESCRIPTION:Events from Gila Valley VFW Post 10385
X-WR-CALDESC:Events from Gila Valley VFW Post 10385
REFRESH-INTERVAL;VALUE=DURATION:PT1440M
X-PUBLISHED-TTL:PT1440M
BEGIN:VTIMEZONE
TZID:America/Phoenix
BEGIN:STANDARD
DTSTART:20240907T000000Z
TZOFFSETFROM:-0700
TZOFFSETTO:-0700
END:STANDARD
END:VTIMEZONE
BEGIN:VTIMEZONE
TZID:UTC
BEGIN:STANDARD
DTSTART:20250725T075832Z
TZOFFSETFROM:+0000
TZOFFSETTO:+0000
END:STANDARD
END:VTIMEZONE
BEGIN:VEVENT
UID:18-5
DTSTAMP:20260421T075832Z
SUMMARY:State Conference
LOCATION:
ORGANIZER;CN=Jeff Morris:MAILTO:Jmorris@vfwpost10385.net
DTSTART;TZID=America/Phoenix;VALUE=DATE:20250604
DTEND;TZID=America/Phoenix;VALUE=DATE:20250609
X-ALT-DESC;FMTTYPE=TEXT/HTML:
CATEGORIES:General
URL;VALUE=URI:https://www.vfwpost10385.net/mc-events/state-conference/
METHOD:PUBLISH
END:VEVENT
END:VCALENDAR